BEGIN:VCALENDAR
VERSION:2.0
PRODID:-//Flower Power - ECPv6.15.17//NONSGML v1.0//EN
CALSCALE:GREGORIAN
METHOD:PUBLISH
X-ORIGINAL-URL:https://flowerpowerhealing.com
X-WR-CALDESC:Events for Flower Power
REFRESH-INTERVAL;VALUE=DURATION:PT1H
X-Robots-Tag:noindex
X-PUBLISHED-TTL:PT1H
BEGIN:VTIMEZONE
TZID:UTC
BEGIN:STANDARD
TZOFFSETFROM:+0000
TZOFFSETTO:+0000
TZNAME:UTC
DTSTART:20160101T000000
END:STANDARD
END:VTIMEZONE
BEGIN:VEVENT
DTSTART;TZID=UTC:20170429T120000
DTEND;TZID=UTC:20170429T160000
DTSTAMP:20260423T150301
CREATED:20170413T041112Z
LAST-MODIFIED:20170413T045517Z
UID:1210-1493467200-1493481600@flowerpowerhealing.com
SUMMARY:Sun-Grown Cannabis Farmers Market
DESCRIPTION:Join Flower Power and Emerald Grown Co-op for a Sun-Grown Cannabis Farmers Market at The Harvest Shop on Geary in San Francisco. \nOur farms are going all out to bring you the best selection of Sun-Grown THC and CBD flowers\, concentrates\, edibles\, topicals and tinctures.
URL:https://flowerpowerhealing.com/event/sun-grown-cannabis-farmers-market/
LOCATION:Harvest Shop\, 4811 Geary Boulevard\, San Francisco\, CA\, 94118\, United States
CATEGORIES:Farmers Market
ATTACH;FMTTYPE=image/jpeg:https://flowerpowerhealing.com/wp-content/uploads/Harvest-Farmers_Market.jpg
END:VEVENT
BEGIN:VEVENT
DTSTART;TZID=UTC:20170318T120000
DTEND;TZID=UTC:20170319T000000
DTSTAMP:20260423T150301
CREATED:20170316T043307Z
LAST-MODIFIED:20170413T043323Z
UID:1218-1489838400-1489881600@flowerpowerhealing.com
SUMMARY:Emerald Exchange 3
DESCRIPTION:From Mendo To Malibu\nEmerald Exchange showcases world class\, sun-grown Northern California cannabis to the Southern California cannabis community. \nArtisanal\, small batch cannabis cultivators and medicine makers from Northern California gather to provide both education and top quality products in a format that encourages a mindful dialogue in a pristine environment. \nThe Emerald Exchange connects businesses with one another\, strengthening their marketing and distribution opportunities. Participants leave this educational event empowered with knowledge about sungrown\, craft cannabis and a sense of community dedicated to wellness and artistry.
URL:https://flowerpowerhealing.com/event/emeraldexchange3/
LOCATION:CA
CATEGORIES:Farmers Market
ATTACH;FMTTYPE=image/jpeg:https://flowerpowerhealing.com/wp-content/uploads/EE_FRONT_FINAL-copy.jpg
END:VEVENT
END:VCALENDAR